BEGIN:VCALENDAR
VERSION:2.0
PRODID:Events Booking
BEGIN:VEVENT
UID:69e7be876b048
SUMMARY:Frauenfelder Fasnachts Umzug 2025
DESCRIPTION:
LOCATION:Rathauspl.\, 8500 Frauenfeld\, Schweiz
DTSTART:20250302T123000Z
DTSTAMP:20240927T094545Z
ORGANIZER;CN=HEFARI Veranstaltung:MAILTO:noreply@hefari.ch
GEO:47.555428;8.897491
X-APPLE-STRUCTURED-LOCATION;VALUE=URI;X-ADDRESS=Rathauspl.\, 8500 Frauenfel
 d\, Schweiz;X-APPLE-RADIUS=72;X-TITLE=:47.555428;8.897491
END:VEVENT
END:VCALENDAR