BEGIN:VCALENDAR
VERSION:2.0
PRODID:Events Booking
BEGIN:VEVENT
UID:69e5106ad062b
SUMMARY:Sonntagsumzug
DESCRIPTION:
LOCATION:Hauptplatz 3 6403 Küssnacht am Rigi
DTSTART:20250223T130000Z
DTSTAMP:20240927T093942Z
ORGANIZER;CN=HEFARI Veranstaltung:MAILTO:noreply@hefari.ch
END:VEVENT
END:VCALENDAR